BEGIN:VCALENDAR
VERSION:2.0
PRODID:icalendar-ruby
CALSCALE:GREGORIAN
METHOD:PUBLISH
BEGIN:VEVENT
DTSTAMP:20260424T060354Z
UID:42-1016770@graceorleans.ca
DTSTART:20261106T000000Z
DTEND:20261106T013000Z
CLASS:PUBLIC
CREATED:20260423T223135
DESCRIPTION:Ever wanted to learn more about music and were afraid to try? 
  We're just the group for you ... we make joyful noises and offer our gif
 ts as song leaders each and every week at church.  At rehearsal\, we le
 arn a little about music\, sing hymns/songs\, laugh\, support each other\
 , play rhythm instruments\, and have fun.   The worship team has the bes
 t seats in the church on Sunday mornings too.  Come as you are\, and as y
 ou are available.  We can't wait to meet you!  Questions? Contact Kim -k
 allenmcgill@gmail.com\; tel. 6138331307.  
LAST-MODIFIED:20260423T223135
LOCATION:Grace Church Sanctuary
SUMMARY:Worship Team Rehearsals
URL;VALUE=URI:https://www.graceorleans.ca/events/worship-team-rehearsals/20
 26-11-05
ATTACH;FILENAME=image.png;FMTTYPE=image/png:https://dq5pwpg1q8ru0.cloudfron
 t.net/2024/08/29/17/14/12/b4bf3944-cf0c-4ade-8344-7afdc27cce85/image.png
END:VEVENT
END:VCALENDAR
